BEGIN:VCALENDAR
VERSION:2.0
PRODID:-//BrandonTRA - ECPv6.15.14//NONSGML v1.0//EN
CALSCALE:GREGORIAN
METHOD:PUBLISH
X-ORIGINAL-URL:https://brandontra.co.uk
X-WR-CALDESC:Events for BrandonTRA
REFRESH-INTERVAL;VALUE=DURATION:PT1H
X-Robots-Tag:noindex
X-PUBLISHED-TTL:PT1H
BEGIN:VTIMEZONE
TZID:Europe/London
BEGIN:DAYLIGHT
TZOFFSETFROM:+0000
TZOFFSETTO:+0100
TZNAME:BST
DTSTART:20240331T010000
END:DAYLIGHT
BEGIN:STANDARD
TZOFFSETFROM:+0100
TZOFFSETTO:+0000
TZNAME:GMT
DTSTART:20241027T010000
END:STANDARD
BEGIN:DAYLIGHT
TZOFFSETFROM:+0000
TZOFFSETTO:+0100
TZNAME:BST
DTSTART:20250330T010000
END:DAYLIGHT
BEGIN:STANDARD
TZOFFSETFROM:+0100
TZOFFSETTO:+0000
TZNAME:GMT
DTSTART:20251026T010000
END:STANDARD
BEGIN:DAYLIGHT
TZOFFSETFROM:+0000
TZOFFSETTO:+0100
TZNAME:BST
DTSTART:20260329T010000
END:DAYLIGHT
BEGIN:STANDARD
TZOFFSETFROM:+0100
TZOFFSETTO:+0000
TZNAME:GMT
DTSTART:20261025T010000
END:STANDARD
END:VTIMEZONE
BEGIN:VEVENT
DTSTART;TZID=Europe/London:20250613T170000
DTEND;TZID=Europe/London:20250613T180000
DTSTAMP:20260421T182835
CREATED:20250606T101034Z
LAST-MODIFIED:20250606T101154Z
UID:10000169-1749834000-1749837600@brandontra.co.uk
SUMMARY:Brixton Chamber Orchestra - Free performance with young musicians
DESCRIPTION:A special performance of young local talent performing shoulder to shoulder with the BCO Orchestra \nDate \nFRIDAY 13TH JUNE 5PM-6PM| \nLocation \nST JOHN THE DIVINE CHURCH\, \nKENNINGTON SW9 6JA
URL:https://brandontra.co.uk/event/brixton-chamber-orchestra-free-performance-with-young-musicians/
ATTACH;FMTTYPE=image/jpeg:https://brandontra.co.uk/wp-content/uploads/2025/06/BCO-Side-by-Side.jpg
END:VEVENT
BEGIN:VEVENT
DTSTART;TZID=Europe/London:20250614T170000
DTEND;TZID=Europe/London:20250614T220000
DTSTAMP:20260421T182835
CREATED:20250520T151944Z
LAST-MODIFIED:20250528T180732Z
UID:10000031-1749920400-1749938400@brandontra.co.uk
SUMMARY:Private Hire Booking
DESCRIPTION:Joshua Adeyemi \njoshadeyemi0@gmail.com \n+447717179614 \nFlat 101\nHanworth House\, John Ruskin Street\nLondon\, Southwark\nSE5 0XN \n60th Birthday Event
URL:https://brandontra.co.uk/event/private-hire-enquiry-32/
LOCATION:Jack Hobbs Club\, Maddock Way\, Brandon Estate\,\, London\, SE17 3NH\, United Kingdom
END:VEVENT
END:VCALENDAR