BEGIN:VCALENDAR
VERSION:2.0
PRODID:-//BrandonTRA - ECPv6.15.14//NONSGML v1.0//EN
CALSCALE:GREGORIAN
METHOD:PUBLISH
X-WR-CALNAME:BrandonTRA
X-ORIGINAL-URL:https://brandontra.co.uk
X-WR-CALDESC:Events for BrandonTRA
REFRESH-INTERVAL;VALUE=DURATION:PT1H
X-Robots-Tag:noindex
X-PUBLISHED-TTL:PT1H
BEGIN:VTIMEZONE
TZID:Europe/London
BEGIN:DAYLIGHT
TZOFFSETFROM:+0000
TZOFFSETTO:+0100
TZNAME:BST
DTSTART:20240331T010000
END:DAYLIGHT
BEGIN:STANDARD
TZOFFSETFROM:+0100
TZOFFSETTO:+0000
TZNAME:GMT
DTSTART:20241027T010000
END:STANDARD
BEGIN:DAYLIGHT
TZOFFSETFROM:+0000
TZOFFSETTO:+0100
TZNAME:BST
DTSTART:20250330T010000
END:DAYLIGHT
BEGIN:STANDARD
TZOFFSETFROM:+0100
TZOFFSETTO:+0000
TZNAME:GMT
DTSTART:20251026T010000
END:STANDARD
BEGIN:DAYLIGHT
TZOFFSETFROM:+0000
TZOFFSETTO:+0100
TZNAME:BST
DTSTART:20260329T010000
END:DAYLIGHT
BEGIN:STANDARD
TZOFFSETFROM:+0100
TZOFFSETTO:+0000
TZNAME:GMT
DTSTART:20261025T010000
END:STANDARD
END:VTIMEZONE
BEGIN:VEVENT
DTSTART;TZID=Europe/London:20250702T130000
DTEND;TZID=Europe/London:20250702T200000
DTSTAMP:20260421T140853
CREATED:20250513T093840Z
LAST-MODIFIED:20250513T093840Z
UID:10000567-1751461200-1751486400@brandontra.co.uk
SUMMARY:Commercial Hire Booking - Southwark Council
DESCRIPTION:Davina Sheikadam \ndavina.sheikadam@southwark.gov.uk \n+447539032406 \n+442075252145 \nLeaseholder surgery for Newington Ward
URL:https://brandontra.co.uk/event/commercial-hire-booking-southwark-council/
LOCATION:Jack Hobbs Club\, Maddock Way\, Brandon Estate\,\, London\, SE17 3NH\, United Kingdom
END:VEVENT
BEGIN:VEVENT
DTSTART;TZID=Europe/London:20250705T130000
DTEND;TZID=Europe/London:20250705T180000
DTSTAMP:20260421T140853
CREATED:20250605T154729Z
LAST-MODIFIED:20250605T154729Z
UID:10000034-1751720400-1751738400@brandontra.co.uk
SUMMARY:Unity FC Awards
DESCRIPTION:Beverley Sasay
URL:https://brandontra.co.uk/event/unity-fc-awards/
LOCATION:Jack Hobbs Club\, Maddock Way\, Brandon Estate\,\, London\, SE17 3NH\, United Kingdom
END:VEVENT
BEGIN:VEVENT
DTSTART;TZID=Europe/London:20250706T100000
DTEND;TZID=Europe/London:20250706T153000
DTSTAMP:20260421T140854
CREATED:20250717T131611Z
LAST-MODIFIED:20250717T131617Z
UID:10000141-1751796000-1751815800@brandontra.co.uk
SUMMARY:Restoration Ministries - Sunday Service
DESCRIPTION:Restoration Ministries UK is a Christian Church in London that believes that only through Christ people can have a personal relationship with God\, starting with salvation and then living a new life\, fully restored and surrendered to Him. \nAs a charitable organisation our object is to advance the Christian faith in London for the benefit mainly\, but not exclusively\, of the Spanish speaking community by proving a place of worship\, leadership training and education\, pastoral care\, religious ceremonies and social work. \nPastors Giovanni & Carolina Gallego are the Senior Pastors and leaders of this ministry. With a vast experience in teaching and leadership\, along social work\, Pastors Giovanni & Carolina lead the local Congregation based at Brandon TRA Hall in South East London\, and are the Principals of the Restoration Bible Institute\, which provides formation in ministry to students in the UK\, Europe\, South and Central America. \n                                                                                                                                                                                                                                                                                                                                                                                                                                                                                                                                                                                                                                                                                           \nIf you would like more information about joining the congregation\, please contact Carolina on 07985 767237 or 07903 197070
URL:https://brandontra.co.uk/event/restoration-ministries-sunday-service-8-2/
LOCATION:Jack Hobbs Club\, Maddock Way\, Brandon Estate\,\, London\, SE17 3NH\, United Kingdom
ATTACH;FMTTYPE=image/jpeg:https://brandontra.co.uk/wp-content/uploads/2023/01/Restoration-Ministries-01.jpeg
END:VEVENT
END:VCALENDAR