BEGIN:VCALENDAR
VERSION:2.0
PRODID:-//BrandonTRA - ECPv6.15.14//NONSGML v1.0//EN
CALSCALE:GREGORIAN
METHOD:PUBLISH
X-ORIGINAL-URL:https://brandontra.co.uk
X-WR-CALDESC:Events for BrandonTRA
REFRESH-INTERVAL;VALUE=DURATION:PT1H
X-Robots-Tag:noindex
X-PUBLISHED-TTL:PT1H
BEGIN:VTIMEZONE
TZID:Europe/London
BEGIN:DAYLIGHT
TZOFFSETFROM:+0000
TZOFFSETTO:+0100
TZNAME:BST
DTSTART:20240331T010000
END:DAYLIGHT
BEGIN:STANDARD
TZOFFSETFROM:+0100
TZOFFSETTO:+0000
TZNAME:GMT
DTSTART:20241027T010000
END:STANDARD
BEGIN:DAYLIGHT
TZOFFSETFROM:+0000
TZOFFSETTO:+0100
TZNAME:BST
DTSTART:20250330T010000
END:DAYLIGHT
BEGIN:STANDARD
TZOFFSETFROM:+0100
TZOFFSETTO:+0000
TZNAME:GMT
DTSTART:20251026T010000
END:STANDARD
BEGIN:DAYLIGHT
TZOFFSETFROM:+0000
TZOFFSETTO:+0100
TZNAME:BST
DTSTART:20260329T010000
END:DAYLIGHT
BEGIN:STANDARD
TZOFFSETFROM:+0100
TZOFFSETTO:+0000
TZNAME:GMT
DTSTART:20261025T010000
END:STANDARD
END:VTIMEZONE
BEGIN:VEVENT
DTSTART;TZID=Europe/London:20250722T100000
DTEND;TZID=Europe/London:20250722T170000
DTSTAMP:20260421T123550
CREATED:20250716T070446Z
LAST-MODIFIED:20250716T070446Z
UID:10000570-1753178400-1753203600@brandontra.co.uk
SUMMARY:BREAKTHEBARRIER CIC
DESCRIPTION:Adult First Aid training \nDance \nSelf defence \nFoodbank
URL:https://brandontra.co.uk/event/breakthebarrier-cic/
LOCATION:Jack Hobbs Club\, Maddock Way\, Brandon Estate\,\, London\, SE17 3NH\, United Kingdom
END:VEVENT
BEGIN:VEVENT
DTSTART;TZID=Europe/London:20250724T100000
DTEND;TZID=Europe/London:20250724T170000
DTSTAMP:20260421T123550
CREATED:20250716T070718Z
LAST-MODIFIED:20250716T070718Z
UID:10000573-1753351200-1753376400@brandontra.co.uk
SUMMARY:BREAKTHEBARRIER CIC
DESCRIPTION:Adult First Aid training \nDance \nSelf defence \nFoodbank
URL:https://brandontra.co.uk/event/breakthebarrier-cic-2/
LOCATION:Jack Hobbs Club\, Maddock Way\, Brandon Estate\,\, London\, SE17 3NH\, United Kingdom
END:VEVENT
BEGIN:VEVENT
DTSTART;TZID=Europe/London:20250726T150000
DTEND;TZID=Europe/London:20250726T180000
DTSTAMP:20260421T123550
CREATED:20250726T083138Z
LAST-MODIFIED:20250726T083857Z
UID:10000595-1753542000-1753552800@brandontra.co.uk
SUMMARY:Summer Concert with Brixton Chamber Orchestra
DESCRIPTION:Brandon TRA are hosting an open-air performance by the Brixton Chamber Orchestra\, in the grounds of the estate on Saturday 26th July. \nThis will be an exciting family orienatted event\, and we will habe a kids zone with Bouncy Castle & a Med Hatters Tea Party\, & Face Painting. There will also be professional food vendors\, offering a range of Caribbean inspired foods. \nThe orchestral performance will start at 3:30pm\, and will feature the full 35 piece orchestra. \nAll residents\, neighbours\, & guests are welcome to come to this FREE event. \nBring a picnic blanket and come along to enjoy this unique musical experience.
URL:https://brandontra.co.uk/event/summer-concert-with-brixton-chamber-orchestra/
ATTACH;FMTTYPE=image/jpeg:https://brandontra.co.uk/wp-content/uploads/2025/07/BCO-JPEG.jpg
END:VEVENT
END:VCALENDAR