BEGIN:VCALENDAR
VERSION:2.0
PRODID:-//BrandonTRA - ECPv6.15.14//NONSGML v1.0//EN
CALSCALE:GREGORIAN
METHOD:PUBLISH
X-WR-CALNAME:BrandonTRA
X-ORIGINAL-URL:https://brandontra.co.uk
X-WR-CALDESC:Events for BrandonTRA
REFRESH-INTERVAL;VALUE=DURATION:PT1H
X-Robots-Tag:noindex
X-PUBLISHED-TTL:PT1H
BEGIN:VTIMEZONE
TZID:Europe/London
BEGIN:DAYLIGHT
TZOFFSETFROM:+0000
TZOFFSETTO:+0100
TZNAME:BST
DTSTART:20240331T010000
END:DAYLIGHT
BEGIN:STANDARD
TZOFFSETFROM:+0100
TZOFFSETTO:+0000
TZNAME:GMT
DTSTART:20241027T010000
END:STANDARD
BEGIN:DAYLIGHT
TZOFFSETFROM:+0000
TZOFFSETTO:+0100
TZNAME:BST
DTSTART:20250330T010000
END:DAYLIGHT
BEGIN:STANDARD
TZOFFSETFROM:+0100
TZOFFSETTO:+0000
TZNAME:GMT
DTSTART:20251026T010000
END:STANDARD
BEGIN:DAYLIGHT
TZOFFSETFROM:+0000
TZOFFSETTO:+0100
TZNAME:BST
DTSTART:20260329T010000
END:DAYLIGHT
BEGIN:STANDARD
TZOFFSETFROM:+0100
TZOFFSETTO:+0000
TZNAME:GMT
DTSTART:20261025T010000
END:STANDARD
END:VTIMEZONE
BEGIN:VEVENT
DTSTART;TZID=Europe/London:20250805T100000
DTEND;TZID=Europe/London:20250805T170000
DTSTAMP:20260421T112636
CREATED:20250717T114858Z
LAST-MODIFIED:20250717T114858Z
UID:10000574-1754388000-1754413200@brandontra.co.uk
SUMMARY:BREAKTHEBARRIER CIC
DESCRIPTION:Adult First Aid training \nDance \nSelf defence \nFoodbank
URL:https://brandontra.co.uk/event/breakthebarrier-cic-3/
LOCATION:Jack Hobbs Club\, Maddock Way\, Brandon Estate\,\, London\, SE17 3NH\, United Kingdom
END:VEVENT
BEGIN:VEVENT
DTSTART;TZID=Europe/London:20250807T100000
DTEND;TZID=Europe/London:20250807T100000
DTSTAMP:20260421T112636
CREATED:20250717T114952Z
LAST-MODIFIED:20250717T120010Z
UID:10000575-1754560800-1754560800@brandontra.co.uk
SUMMARY:BREAKTHEBARRIER CIC
DESCRIPTION:Adult First Aid training \nDance \nSelf defence \nFoodbank
URL:https://brandontra.co.uk/event/breakthebarrier-cic-4/
LOCATION:Jack Hobbs Club\, Maddock Way\, Brandon Estate\,\, London\, SE17 3NH\, United Kingdom
END:VEVENT
BEGIN:VEVENT
DTSTART;TZID=Europe/London:20250808T180000
DTEND;TZID=Europe/London:20250808T220000
DTSTAMP:20260421T112636
CREATED:20250424T110820Z
LAST-MODIFIED:20250424T110820Z
UID:10000566-1754676000-1754690400@brandontra.co.uk
SUMMARY:Private Hire Enquiry
DESCRIPTION:Buki Bakare \nbak2buks@hotmail.com \n+447956859143 \n68 Iliffe Street\nWalworth\nLondon\, London\nSE17 3L \nFamily Event
URL:https://brandontra.co.uk/event/private-hire-enquiry-20/
LOCATION:Jack Hobbs Club\, Maddock Way\, Brandon Estate\,\, London\, SE17 3NH\, United Kingdom
END:VEVENT
BEGIN:VEVENT
DTSTART;TZID=Europe/London:20250810T120000
DTEND;TZID=Europe/London:20250810T220000
DTSTAMP:20260421T112636
CREATED:20250607T071803Z
LAST-MODIFIED:20250607T072826Z
UID:10000172-1754827200-1754863200@brandontra.co.uk
SUMMARY:Private Hire Enquiry
DESCRIPTION:monica gilbert \n+447507665466 \nmonicagilbert_noble@yahoo.co.uk \nFlat 20\, Melcombe House\, Dorset Road\nDorset Road\nLondon\, Select\nSW81ES \nChhristening reception child will be 7 months
URL:https://brandontra.co.uk/event/private-hire-enquiry-25/
LOCATION:Jack Hobbs Club\, Maddock Way\, Brandon Estate\,\, London\, SE17 3NH\, United Kingdom
END:VEVENT
END:VCALENDAR