BEGIN:VCALENDAR
VERSION:2.0
PRODID:-//BrandonTRA - ECPv6.15.14//NONSGML v1.0//EN
CALSCALE:GREGORIAN
METHOD:PUBLISH
X-WR-CALNAME:BrandonTRA
X-ORIGINAL-URL:https://brandontra.co.uk
X-WR-CALDESC:Events for BrandonTRA
REFRESH-INTERVAL;VALUE=DURATION:PT1H
X-Robots-Tag:noindex
X-PUBLISHED-TTL:PT1H
BEGIN:VTIMEZONE
TZID:Europe/London
BEGIN:DAYLIGHT
TZOFFSETFROM:+0000
TZOFFSETTO:+0100
TZNAME:BST
DTSTART:20240331T010000
END:DAYLIGHT
BEGIN:STANDARD
TZOFFSETFROM:+0100
TZOFFSETTO:+0000
TZNAME:GMT
DTSTART:20241027T010000
END:STANDARD
BEGIN:DAYLIGHT
TZOFFSETFROM:+0000
TZOFFSETTO:+0100
TZNAME:BST
DTSTART:20250330T010000
END:DAYLIGHT
BEGIN:STANDARD
TZOFFSETFROM:+0100
TZOFFSETTO:+0000
TZNAME:GMT
DTSTART:20251026T010000
END:STANDARD
BEGIN:DAYLIGHT
TZOFFSETFROM:+0000
TZOFFSETTO:+0100
TZNAME:BST
DTSTART:20260329T010000
END:DAYLIGHT
BEGIN:STANDARD
TZOFFSETFROM:+0100
TZOFFSETTO:+0000
TZNAME:GMT
DTSTART:20261025T010000
END:STANDARD
END:VTIMEZONE
BEGIN:VEVENT
DTSTART;TZID=Europe/London:20250819T100000
DTEND;TZID=Europe/London:20250819T170000
DTSTAMP:20260421T112628
CREATED:20250717T115250Z
LAST-MODIFIED:20250717T115352Z
UID:10000577-1755597600-1755622800@brandontra.co.uk
SUMMARY:BREAKTHEBARRIER CIC
DESCRIPTION:Adult First Aid training \nDance \nSelf defence \nFoodbank
URL:https://brandontra.co.uk/event/breakthebarrier-cic-6/
LOCATION:Jack Hobbs Club\, Maddock Way\, Brandon Estate\,\, London\, SE17 3NH\, United Kingdom
END:VEVENT
BEGIN:VEVENT
DTSTART;TZID=Europe/London:20250822T100000
DTEND;TZID=Europe/London:20250822T170000
DTSTAMP:20260421T112628
CREATED:20250717T120306Z
LAST-MODIFIED:20250717T120306Z
UID:10000578-1755856800-1755882000@brandontra.co.uk
SUMMARY:BREAKTHEBARRIER CIC
DESCRIPTION:Adult First Aid training \nDance \nSelf defence \nFoodbank
URL:https://brandontra.co.uk/event/breakthebarrier-cic-7/
LOCATION:Jack Hobbs Club\, Maddock Way\, Brandon Estate\,\, London\, SE17 3NH\, United Kingdom
END:VEVENT
END:VCALENDAR