BEGIN:VCALENDAR
VERSION:2.0
PRODID:-//BrandonTRA - ECPv6.15.14//NONSGML v1.0//EN
CALSCALE:GREGORIAN
METHOD:PUBLISH
X-ORIGINAL-URL:https://brandontra.co.uk
X-WR-CALDESC:Events for BrandonTRA
REFRESH-INTERVAL;VALUE=DURATION:PT1H
X-Robots-Tag:noindex
X-PUBLISHED-TTL:PT1H
BEGIN:VTIMEZONE
TZID:Europe/London
BEGIN:DAYLIGHT
TZOFFSETFROM:+0000
TZOFFSETTO:+0100
TZNAME:BST
DTSTART:20240331T010000
END:DAYLIGHT
BEGIN:STANDARD
TZOFFSETFROM:+0100
TZOFFSETTO:+0000
TZNAME:GMT
DTSTART:20241027T010000
END:STANDARD
BEGIN:DAYLIGHT
TZOFFSETFROM:+0000
TZOFFSETTO:+0100
TZNAME:BST
DTSTART:20250330T010000
END:DAYLIGHT
BEGIN:STANDARD
TZOFFSETFROM:+0100
TZOFFSETTO:+0000
TZNAME:GMT
DTSTART:20251026T010000
END:STANDARD
BEGIN:DAYLIGHT
TZOFFSETFROM:+0000
TZOFFSETTO:+0100
TZNAME:BST
DTSTART:20260329T010000
END:DAYLIGHT
BEGIN:STANDARD
TZOFFSETFROM:+0100
TZOFFSETTO:+0000
TZNAME:GMT
DTSTART:20261025T010000
END:STANDARD
END:VTIMEZONE
BEGIN:VEVENT
DTSTART;TZID=Europe/London:20250828T100000
DTEND;TZID=Europe/London:20250828T170000
DTSTAMP:20260421T112854
CREATED:20250717T120417Z
LAST-MODIFIED:20250717T120417Z
UID:10000579-1756375200-1756400400@brandontra.co.uk
SUMMARY:BREAKTHEBARRIER CIC
DESCRIPTION:Adult First Aid training \nDance \nSelf defence \nFoodbank
URL:https://brandontra.co.uk/event/breakthebarrier-cic-8/
LOCATION:Jack Hobbs Club\, Maddock Way\, Brandon Estate\,\, London\, SE17 3NH\, United Kingdom
END:VEVENT
BEGIN:VEVENT
DTSTART;TZID=Europe/London:20250829T100000
DTEND;TZID=Europe/London:20250829T170000
DTSTAMP:20260421T112854
CREATED:20250717T120508Z
LAST-MODIFIED:20250717T120508Z
UID:10000580-1756461600-1756486800@brandontra.co.uk
SUMMARY:BREAKTHEBARRIER CIC
DESCRIPTION:Adult First Aid training \nDance \nSelf defence \nFoodbank
URL:https://brandontra.co.uk/event/breakthebarrier-cic-9/
LOCATION:Jack Hobbs Club\, Maddock Way\, Brandon Estate\,\, London\, SE17 3NH\, United Kingdom
END:VEVENT
BEGIN:VEVENT
DTSTART;TZID=Europe/London:20250830T140000
DTEND;TZID=Europe/London:20250830T210000
DTSTAMP:20260421T112854
CREATED:20250713T072334Z
LAST-MODIFIED:20250830T085851Z
UID:10000572-1756562400-1756587600@brandontra.co.uk
SUMMARY:Private Hire Booking
DESCRIPTION:Yetunde Bakare \nyettybak@yahoo.com \n+447414259665 \nFlat 61 brawne house Brandon estate\nLondon\, Southwark\nSE17 3PJ \nBirthday
URL:https://brandontra.co.uk/event/private-hire-enquiry-21/
LOCATION:Jack Hobbs Club\, Maddock Way\, Brandon Estate\,\, London\, SE17 3NH\, United Kingdom
END:VEVENT
END:VCALENDAR